BEGIN:VCALENDAR
VERSION:2.0
PRODID:-//Azienda Agricola Mazzone - ECPv6.15.17.1//NONSGML v1.0//EN
CALSCALE:GREGORIAN
METHOD:PUBLISH
X-WR-CALNAME:Azienda Agricola Mazzone
X-ORIGINAL-URL:https://www.aziendamazzone.it
X-WR-CALDESC:Eventi per Azienda Agricola Mazzone
REFRESH-INTERVAL;VALUE=DURATION:PT1H
X-Robots-Tag:noindex
X-PUBLISHED-TTL:PT1H
BEGIN:VTIMEZONE
TZID:Europe/Rome
BEGIN:DAYLIGHT
TZOFFSETFROM:+0100
TZOFFSETTO:+0200
TZNAME:CEST
DTSTART:20170326T010000
END:DAYLIGHT
BEGIN:STANDARD
TZOFFSETFROM:+0200
TZOFFSETTO:+0100
TZNAME:CET
DTSTART:20171029T010000
END:STANDARD
BEGIN:DAYLIGHT
TZOFFSETFROM:+0100
TZOFFSETTO:+0200
TZNAME:CEST
DTSTART:20180325T010000
END:DAYLIGHT
BEGIN:STANDARD
TZOFFSETFROM:+0200
TZOFFSETTO:+0100
TZNAME:CET
DTSTART:20181028T010000
END:STANDARD
BEGIN:DAYLIGHT
TZOFFSETFROM:+0100
TZOFFSETTO:+0200
TZNAME:CEST
DTSTART:20190331T010000
END:DAYLIGHT
BEGIN:STANDARD
TZOFFSETFROM:+0200
TZOFFSETTO:+0100
TZNAME:CET
DTSTART:20191027T010000
END:STANDARD
END:VTIMEZONE
BEGIN:VEVENT
DTSTART;TZID=Europe/Rome:20180810T190000
DTEND;TZID=Europe/Rome:20180810T220000
DTSTAMP:20260422T121832
CREATED:20180731T103246Z
LAST-MODIFIED:20180731T103615Z
UID:1802-1533927600-1533938400@www.aziendamazzone.it
SUMMARY:Calici di stelle 2018
DESCRIPTION:Torna anche quest’anno l’appuntamento con Calici di stelle edizione 2018\, un’iniziativa del Movimento Turismo Vino a cui noi aderiamo sempre volentieri. \nCalici di stelle 2018\, il programma\nA rendere questa serata ancora più brillante ci sarà un ospite speciale che ci racconterà e mostrerà uno dei cieli stellati più belli dell’anno\, quello della notte di San Lorenzo!\nAndremo a caccia di stelle cadenti\, pianeti e costellazioni guidati da un esperto astronomo\, osserveremo la volta celeste con il telescopio\, nella notte più magica dell’anno\, quando i nostri desideri possono trasformarsi in realtà! \nIl tutto accompagnato dai nostri vini! 🍷 \nContattaci! \ninfo@aziendamazzone.it \nTELEFONO \n340.0683993 \n348.2591858 \n\n347.6402309
URL:https://www.aziendamazzone.it/event/calici-di-stelle-2018/
LOCATION:Azienda Agricola Mazzone\, Strada Provinciale 22 Ruvo Palombaio 460/a\, Ruvo di Puglia\, 70037\, Italy
CATEGORIES:MTV Puglia
ATTACH;FMTTYPE=image/jpeg:https://www.aziendamazzone.it/wp-content/uploads/2018/07/calici-di-stelle-evento-2018.jpg
END:VEVENT
END:VCALENDAR